BEGIN:VCALENDAR
VERSION:2.0
PRODID:-//Le Patrimoine st&eacute;phanois - ECPv6.3.7//NONSGML v1.0//EN
CALSCALE:GREGORIAN
METHOD:PUBLISH
X-WR-CALNAME:Le Patrimoine st&eacute;phanois
X-ORIGINAL-URL:https://www.patrimoine-stephanois.be/wp
X-WR-CALDESC:évènements pour Le Patrimoine st&eacute;phanois
REFRESH-INTERVAL;VALUE=DURATION:PT1H
X-Robots-Tag:noindex
X-PUBLISHED-TTL:PT1H
BEGIN:VTIMEZONE
TZID:Europe/Helsinki
BEGIN:DAYLIGHT
TZOFFSETFROM:+0200
TZOFFSETTO:+0300
TZNAME:EEST
DTSTART:20230326T010000
END:DAYLIGHT
BEGIN:STANDARD
TZOFFSETFROM:+0300
TZOFFSETTO:+0200
TZNAME:EET
DTSTART:20231029T010000
END:STANDARD
END:VTIMEZONE
BEGIN:VEVENT
DTSTART;TZID=Europe/Helsinki:20230618T170000
DTEND;TZID=Europe/Helsinki:20230618T183000
DTSTAMP:20260423T231905
CREATED:20230518T090449Z
LAST-MODIFIED:20230518T150206Z
UID:5188-1687107600-1687113000@www.patrimoine-stephanois.be
SUMMARY:Concert HARPES EN ECHO
DESCRIPTION:TRIO de HARPES\nAnnie Lavoisier\, Roberta Brambilla et Eleonora Congiu\ndans des oeuvres de Dvorak\, Shostakovich\, Albéniz\, Ginastera\, Debussy et Ravel\, inspirées par la danse. \nRéservez vos places…
URL:https://www.patrimoine-stephanois.be/wp/event/concert-harpes-en-echo/
LOCATION:Chapelle de Sart-Messire-Guillaume\, rue de la Chapelle de Sart-Messire-Guillaume\, 15\, Court-Saint-Étienne\, 1490\, Belgique
ORGANIZER;CN="Le Patrimoine St%C3%A9phanois":MAILTO:info@patrimoine-stephanois.be
END:VEVENT
END:VCALENDAR