BEGIN:VCALENDAR
VERSION:2.0
PRODID:-//Le Patrimoine st&eacute;phanois - ECPv6.3.7//NONSGML v1.0//EN
CALSCALE:GREGORIAN
METHOD:PUBLISH
X-WR-CALNAME:Le Patrimoine st&eacute;phanois
X-ORIGINAL-URL:https://www.patrimoine-stephanois.be/wp
X-WR-CALDESC:évènements pour Le Patrimoine st&eacute;phanois
REFRESH-INTERVAL;VALUE=DURATION:PT1H
X-Robots-Tag:noindex
X-PUBLISHED-TTL:PT1H
BEGIN:VTIMEZONE
TZID:Europe/Helsinki
BEGIN:DAYLIGHT
TZOFFSETFROM:+0200
TZOFFSETTO:+0300
TZNAME:EEST
DTSTART:20220327T010000
END:DAYLIGHT
BEGIN:STANDARD
TZOFFSETFROM:+0300
TZOFFSETTO:+0200
TZNAME:EET
DTSTART:20221030T010000
END:STANDARD
END:VTIMEZONE
BEGIN:VEVENT
DTSTART;TZID=Europe/Helsinki:20220618T200000
DTEND;TZID=Europe/Helsinki:20220618T220000
DTSTAMP:20260424T190832
CREATED:20220408T072632Z
LAST-MODIFIED:20220408T073133Z
UID:5050-1655582400-1655589600@www.patrimoine-stephanois.be
SUMMARY:Concert de Laure Stehlin "Les Vies gigognes"
DESCRIPTION:A l’occasion des Fêtes de la Musique\,le Patrimoine Stéphanois asbl vous propose d’assister au concert de \nLaure Stehlin\n“ Les Vies Gigognes ”\nSamedi 18 juin 2022 à 20H\nÀ la Chapelle castrale de Sart-Messire-Guillaume\nRue de la Chapelle\n1490 Court-Saint-Etienne\n Dans Les Vies Gigognes Laure Stehlin nous ouvre son cabinet sonore\, jouant tour à tour de la flûte moderne\, des flûtes du monde\, des tambours\, des bols tibétains et des percussions de Healing Sounds. Cette promenade sensorielle dévoile un monde fantastique dans lequel les êtres de la Nature semblent s’animer pour ouvrir nos perceptions au-delà du réel. Là où les styles se mélangent\, Laure Stehlin laisse résonner les timbres et les textures\, sources de bien-être et d’émerveillement. \nCet évènement a lieu pour la sortie de son album Orées chez Cypres Records\, dans la collection Soundfulness. \nLe prix des entrées est de 15 €  / 12 € pour les étudiants et les membres du Patrimoine stéphanois (en ordre de cotisation). \nPaiement à l’entrée le soir de la représentation. Réservations vivement recommandées auprès de Fabrice Maillez – maillez@hotmail.com – 0479 60 77 91 \nPour plus d’informations sur le concert\, visitez le site de l’artiste : www.laurestehlin.eu/les-vies-gigognes/
URL:https://www.patrimoine-stephanois.be/wp/event/concert-de-laure-stehlin-les-vies-gigognes/
LOCATION:Chapelle castrale de Sart-Messire-Guillaume\, rue de la Chapelle de Sart 15\, Court-St-Étienne\, 1490\, Belgique
ORGANIZER;CN="Patrimoine st%C3%A9phanois":MAILTO:info@patrimoine-stephanois.be
END:VEVENT
END:VCALENDAR