BEGIN:VCALENDAR
VERSION:2.0
PRODID:-//Le Patrimoine st&eacute;phanois - ECPv6.3.7//NONSGML v1.0//EN
CALSCALE:GREGORIAN
METHOD:PUBLISH
X-WR-CALNAME:Le Patrimoine st&eacute;phanois
X-ORIGINAL-URL:https://www.patrimoine-stephanois.be/wp
X-WR-CALDESC:évènements pour Le Patrimoine st&eacute;phanois
REFRESH-INTERVAL;VALUE=DURATION:PT1H
X-Robots-Tag:noindex
X-PUBLISHED-TTL:PT1H
BEGIN:VTIMEZONE
TZID:Europe/Helsinki
BEGIN:DAYLIGHT
TZOFFSETFROM:+0200
TZOFFSETTO:+0300
TZNAME:EEST
DTSTART:20220327T010000
END:DAYLIGHT
BEGIN:STANDARD
TZOFFSETFROM:+0300
TZOFFSETTO:+0200
TZNAME:EET
DTSTART:20221030T010000
END:STANDARD
END:VTIMEZONE
BEGIN:VEVENT
DTSTART;TZID=Europe/Helsinki:20220206T100000
DTEND;TZID=Europe/Helsinki:20220206T123000
DTSTAMP:20260425T015753
CREATED:20220121T075540Z
LAST-MODIFIED:20220121T075540Z
UID:5022-1644141600-1644150600@www.patrimoine-stephanois.be
SUMMARY:Balade hivernale
DESCRIPTION:Inscription uniquement par mail : maillez@hotmail.com\nDépart : 10H (retour prévu avant 13H)\nLe lieu de rendez-vous sera communiqué à l’inscription.\nPromenade non accessible aux PMR et aux poussettes. Nos amis les chiens resteront à la maison.\nPour cette balade hivernale\, Fabrice vous prépare un de ces itinéraires dont il a le secret entre histoire sociale et industrielle\, fermes\, chemins creux\, ruelles pavées et zones humides…\nDifficulté : moyenne\nCoût : gratuit\nPrévoyez une bonne paire de bottines et une tenue chaude adaptée à la météo du jour.
URL:https://www.patrimoine-stephanois.be/wp/event/balade-hivernale/
LOCATION:Lieu de départ sera communiqué à l’iscription\, Belgique
ORGANIZER;CN="Fabrice Maillez du Patrimoine st%C3%A9phanois":MAILTO:maillez@hotmail.com
END:VEVENT
END:VCALENDAR