BEGIN:VCALENDAR
VERSION:2.0
PRODID:-//Le Patrimoine st&eacute;phanois - ECPv6.3.7//NONSGML v1.0//EN
CALSCALE:GREGORIAN
METHOD:PUBLISH
X-ORIGINAL-URL:https://www.patrimoine-stephanois.be/wp
X-WR-CALDESC:évènements pour Le Patrimoine st&eacute;phanois
REFRESH-INTERVAL;VALUE=DURATION:PT1H
X-Robots-Tag:noindex
X-PUBLISHED-TTL:PT1H
BEGIN:VTIMEZONE
TZID:Europe/Helsinki
BEGIN:DAYLIGHT
TZOFFSETFROM:+0200
TZOFFSETTO:+0300
TZNAME:EEST
DTSTART:20220327T010000
END:DAYLIGHT
BEGIN:STANDARD
TZOFFSETFROM:+0300
TZOFFSETTO:+0200
TZNAME:EET
DTSTART:20221030T010000
END:STANDARD
END:VTIMEZONE
BEGIN:VEVENT
DTSTART;TZID=Europe/Helsinki:20220911T100000
DTEND;TZID=Europe/Helsinki:20220911T170000
DTSTAMP:20260424T154915
CREATED:20220819T070912Z
LAST-MODIFIED:20220824T142037Z
UID:5096-1662890400-1662915600@www.patrimoine-stephanois.be
SUMMARY:Journées du Patrimoine 2022 - Patrimoine et Innovation
DESCRIPTION:Le dimanche 11 septembre prochain\, dans le cadre des Journées du Patrimoine 2022\, le Patrimoine stéphanois organise un circuit guidé qui expliquera les innovations architecturales visibles sur les monuments témoins des Usines Émile Henricot. Merci de vous inscrire par info@patrimoine-stephanois.be ou au GSM 0475 90 33 95. Un circuit guidé partira du Hall n° 11 (Place des Déportes) et commencera toutes les heures à partir de 10h avec le dernier départ à 17h.  Avec le soutien du CCBW.
URL:https://www.patrimoine-stephanois.be/wp/event/journees-du-patrimoine-2022-patrimoine-et-innovation/
LOCATION:Place des Déportés\, Court-Saint-Etienne\, Place des Déportés\, Court-Saint-Etienne\, Brabant Wallon\, 1490\, Belgique
ORGANIZER;CN="Patrimoine st%C3%A9phanois":MAILTO:info@patrimoine-stephanois.be
END:VEVENT
END:VCALENDAR